BEGIN:VCALENDAR
VERSION:2.0
PRODID:spatie/icalendar-generator
DESCRIPTION:Veranstaltungen von Evangelische Kirchengemeinde Lobberich
X-WR-CALDESC:Veranstaltungen von Evangelische Kirchengemeinde Lobberich
REFRESH-INTERVAL;VALUE=DURATION:PT1440M
X-PUBLISHED-TTL:PT1440M
BEGIN:VTIMEZONE
TZID:Etc/GMT-2
BEGIN:STANDARD
DTSTART:20251215T000000Z
TZOFFSETFROM:+0200
TZOFFSETTO:+0200
END:STANDARD
END:VTIMEZONE
BEGIN:VTIMEZONE
TZID:UTC
BEGIN:STANDARD
DTSTART:20250725T120715Z
TZOFFSETFROM:+0000
TZOFFSETTO:+0000
END:STANDARD
END:VTIMEZONE
BEGIN:VEVENT
UID:125-36
DTSTAMP:20260421T120715Z
SUMMARY:Konfirmations-Hauptkurs
LOCATION:Gemeindehaus der Evangelischen Kirche Lobberich Steegerstraße 39 
    41334
ORGANIZER;CN=Monika Gerhardt:MAILTO:monika.gerhardt@mein.gmx
DTSTART;TZID=Etc/GMT-2;VALUE=DATE:20260911
DTEND;TZID=Etc/GMT-2;VALUE=DATE:20260912
X-ALT-DESC;FMTTYPE=TEXT/HTML:Konfirmationsunterricht für Konfigruppe Micha
CATEGORIES:Konfirmanden
URL;VALUE=URI:https://www2.evangelische-lobberich.de/mc-events/konfirmation
 s-hauptkurs-12/
METHOD:PUBLISH
END:VEVENT
END:VCALENDAR