BEGIN:VCALENDAR
VERSION:2.0
PRODID:spatie/icalendar-generator
DESCRIPTION:Veranstaltungen von Evangelische Kirchengemeinde Lobberich
X-WR-CALDESC:Veranstaltungen von Evangelische Kirchengemeinde Lobberich
REFRESH-INTERVAL;VALUE=DURATION:PT1440M
X-PUBLISHED-TTL:PT1440M
BEGIN:VTIMEZONE
TZID:Etc/GMT-2
BEGIN:STANDARD
DTSTART:20250609T150000Z
TZOFFSETFROM:+0200
TZOFFSETTO:+0200
END:STANDARD
END:VTIMEZONE
BEGIN:VTIMEZONE
TZID:UTC
BEGIN:STANDARD
DTSTART:20250725T111744Z
TZOFFSETFROM:+0000
TZOFFSETTO:+0000
END:STANDARD
END:VTIMEZONE
BEGIN:VEVENT
UID:155-68
DTSTAMP:20260421T111744Z
SUMMARY:Weltgebetstag 2026
LOCATION:Alte Kirche Lobberich Am Treppchen 1  41334
ORGANIZER;CN=Monika Gerhardt:MAILTO:monika.gerhardt@mein.gmx
DTSTART;TZID=Etc/GMT-2:20260306T150000
DTEND;TZID=Etc/GMT-2:20260306T160000
X-ALT-DESC;FMTTYPE=TEXT/HTML:„Kommt! Bringt eure Last.“ - Zum Weltgebet
 stag 2026 aus Nigeria
CATEGORIES:Erwachsene
URL;VALUE=URI:https://www2.evangelische-lobberich.de/mc-events/weltgebetsta
 g-2026/
METHOD:PUBLISH
END:VEVENT
END:VCALENDAR