BEGIN:VCALENDAR
VERSION:2.0
PRODID:spatie/icalendar-generator
DESCRIPTION:Veranstaltungen von Evangelische Kirchengemeinde Lobberich
X-WR-CALDESC:Veranstaltungen von Evangelische Kirchengemeinde Lobberich
REFRESH-INTERVAL;VALUE=DURATION:PT1440M
X-PUBLISHED-TTL:PT1440M
BEGIN:VTIMEZONE
TZID:Etc/GMT-2
BEGIN:STANDARD
DTSTART:20251031T150000Z
TZOFFSETFROM:+0200
TZOFFSETTO:+0200
END:STANDARD
END:VTIMEZONE
BEGIN:VTIMEZONE
TZID:UTC
BEGIN:STANDARD
DTSTART:20250728T113227Z
TZOFFSETFROM:+0000
TZOFFSETTO:+0000
END:STANDARD
END:VTIMEZONE
BEGIN:VEVENT
UID:62-25
DTSTAMP:20260424T113227Z
SUMMARY:Sommeraktion
LOCATION:Gemeindehaus der Evangelischen Kirche Lobberich Steegerstraße 39 
    41334
ORGANIZER;CN=Monika Gerhardt:MAILTO:monika.gerhardt@mein.gmx
DTSTART;TZID=Etc/GMT-2:20260728T150000
DTEND;TZID=Etc/GMT-2:20260729T180000
X-ALT-DESC;FMTTYPE=TEXT/HTML:Keine Lust die Ferien nur zu Hause zu sitzen? 
 Dann komm zu unserer Sommeraktion und verbringe die Nachmittage bei uns: d
 ich erwarten jede Menge Action\, Spaß mit anderen Jugendlichen\, natürli
 ch coole Drinks und leckere Snacks. Wann: 28. + 29. Juli 2026 von 15-18 Uh
 r (ein Tag oder beide Tage buchbar) Wo: Im Gemeindehaus der Ev.&amp;hellip\;
CATEGORIES:Kinder
URL;VALUE=URI:https://www2.evangelische-lobberich.de/mc-events/sommeraktion
 /
METHOD:PUBLISH
END:VEVENT
END:VCALENDAR