BEGIN:VCALENDAR
VERSION:2.0
PRODID:spatie/icalendar-generator
DESCRIPTION:Veranstaltungen von Evangelische Kirchengemeinde Lobberich
X-WR-CALDESC:Veranstaltungen von Evangelische Kirchengemeinde Lobberich
REFRESH-INTERVAL;VALUE=DURATION:PT1440M
X-PUBLISHED-TTL:PT1440M
BEGIN:VTIMEZONE
TZID:Etc/GMT-2
BEGIN:STANDARD
DTSTART:20251120T080000Z
TZOFFSETFROM:+0200
TZOFFSETTO:+0200
END:STANDARD
END:VTIMEZONE
BEGIN:VTIMEZONE
TZID:UTC
BEGIN:STANDARD
DTSTART:20250728T113019Z
TZOFFSETFROM:+0000
TZOFFSETTO:+0000
END:STANDARD
END:VTIMEZONE
BEGIN:VEVENT
UID:63-26
DTSTAMP:20260424T113019Z
SUMMARY:Sommerferienspaß
LOCATION:Gemeindehaus der Evangelischen Kirche Lobberich Steegerstraße 39 
    41334
ORGANIZER;CN=Monika Gerhardt:MAILTO:monika.gerhardt@mein.gmx
DTSTART;TZID=Etc/GMT-2:20260817T080000
DTEND;TZID=Etc/GMT-2:20260821T150000
X-ALT-DESC;FMTTYPE=TEXT/HTML:Du bist zwischen 6 und 10 Jahre? Du hast Lust 
 auf eine Reise mit coolen Spielen\, kreativem Basteln und galaktischen Abe
 nteuern? Dann komm vorbei und begib dich mit uns auf eine „Reise zu den 
 Sternen“. Wann: 5. Sommerferienwoche vom 17.-21. August 2026\, täglich 
 von 8-15 Uhr Wo: Im Gemeindehaus der Ev. Kirchengemeinde Lobberich (Steege
 rstr. 39)&amp;hellip\;
CATEGORIES:Kinder
URL;VALUE=URI:https://www2.evangelische-lobberich.de/mc-events/sommerferien
 spass/
METHOD:PUBLISH
END:VEVENT
END:VCALENDAR