BEGIN:VCALENDAR
VERSION:2.0
PRODID:spatie/icalendar-generator
DESCRIPTION:Veranstaltungen von Evangelische Kirchengemeinde Lobberich
X-WR-CALDESC:Veranstaltungen von Evangelische Kirchengemeinde Lobberich
REFRESH-INTERVAL;VALUE=DURATION:PT1440M
X-PUBLISHED-TTL:PT1440M
BEGIN:VTIMEZONE
TZID:Etc/GMT-2
BEGIN:STANDARD
DTSTART:20260129T080000Z
TZOFFSETFROM:+0200
TZOFFSETTO:+0200
END:STANDARD
END:VTIMEZONE
BEGIN:VTIMEZONE
TZID:UTC
BEGIN:STANDARD
DTSTART:20250728T130122Z
TZOFFSETFROM:+0000
TZOFFSETTO:+0000
END:STANDARD
END:VTIMEZONE
BEGIN:VEVENT
UID:64-27
DTSTAMP:20260424T130122Z
SUMMARY:Herbstferienspaß
LOCATION:Gemeindehaus der Evangelischen Kirche Lobberich Steegerstraße 39 
    41334
ORGANIZER;CN=Monika Gerhardt:MAILTO:monika.gerhardt@mein.gmx
DTSTART;TZID=Etc/GMT-2:20261026T080000
DTEND;TZID=Etc/GMT-2:20261030T150000
X-ALT-DESC;FMTTYPE=TEXT/HTML:Es wird Herbst\, die Tage werden kürzer und w
 ir begeben uns auf den Weg in den Zauberwald. Uns erwarten magische Tage v
 oller Gemeinschaft\, kreativen Stunden\, phantastischer Abenteuer und alle
 rlei mystische Wesen. Neugierig? Dann komm mit in den Zauberwald. Wann: 2.
  Herbstferienwoche vom 26.-30. Oktober 2026\, täglich von 8-15 Uhr Wo: Im
  Gemeindehaus der Ev. Kirchengemeinde&amp;hellip\;
CATEGORIES:Kinder
URL;VALUE=URI:https://www2.evangelische-lobberich.de/mc-events/herbstferien
 spass/
METHOD:PUBLISH
END:VEVENT
END:VCALENDAR