BEGIN:VCALENDAR
VERSION:2.0
PRODID:spatie/icalendar-generator
DESCRIPTION:Veranstaltungen von Evangelische Kirchengemeinde Lobberich
X-WR-CALDESC:Veranstaltungen von Evangelische Kirchengemeinde Lobberich
REFRESH-INTERVAL;VALUE=DURATION:PT1440M
X-PUBLISHED-TTL:PT1440M
BEGIN:VTIMEZONE
TZID:Etc/GMT-2
BEGIN:STANDARD
DTSTART:20260121T100000Z
TZOFFSETFROM:+0200
TZOFFSETTO:+0200
END:STANDARD
END:VTIMEZONE
BEGIN:VTIMEZONE
TZID:UTC
BEGIN:STANDARD
DTSTART:20250728T102251Z
TZOFFSETFROM:+0000
TZOFFSETTO:+0000
END:STANDARD
END:VTIMEZONE
BEGIN:VEVENT
UID:196-90
DTSTAMP:20260424T102251Z
SUMMARY:Gottesdienst
LOCATION:Evangelische Kirche Lobberich Steegerstraße 39    41334
ORGANIZER;CN=Monika Gerhardt:MAILTO:monika.gerhardt@mein.gmx
DTSTART;TZID=Etc/GMT-2:20261018T100000
DTEND;TZID=Etc/GMT-2:20261018T110000
X-ALT-DESC;FMTTYPE=TEXT/HTML:Mit Pfarrerin Elke Langer Dies ist ein günsti
 ger Tauftermin.
CATEGORIES:Erwachsene,  Gottesdienst,  Taufmöglichkeit
URL;VALUE=URI:https://www2.evangelische-lobberich.de/mc-events/gottesdienst
 -3/
METHOD:PUBLISH
END:VEVENT
END:VCALENDAR