BEGIN:VCALENDAR
VERSION:2.0
PRODID:spatie/icalendar-generator
DESCRIPTION:Veranstaltungen von Evangelische Kirchengemeinde Lobberich
X-WR-CALDESC:Veranstaltungen von Evangelische Kirchengemeinde Lobberich
REFRESH-INTERVAL;VALUE=DURATION:PT1440M
X-PUBLISHED-TTL:PT1440M
BEGIN:VTIMEZONE
TZID:Etc/GMT-2
BEGIN:STANDARD
DTSTART:20250812T100000Z
TZOFFSETFROM:+0200
TZOFFSETTO:+0200
END:STANDARD
END:VTIMEZONE
BEGIN:VTIMEZONE
TZID:UTC
BEGIN:STANDARD
DTSTART:20250728T095754Z
TZOFFSETFROM:+0000
TZOFFSETTO:+0000
END:STANDARD
END:VTIMEZONE
BEGIN:VEVENT
UID:197-91
DTSTAMP:20260424T095754Z
SUMMARY:Familienfrühstück
LOCATION:Gemeindehaus der Evangelischen Kirche Lobberich Steegerstraße 39 
    41334
ORGANIZER;CN=Monika Gerhardt:MAILTO:monika.gerhardt@mein.gmx
DTSTART;TZID=Etc/GMT-2:20260509T100000
DTEND;TZID=Etc/GMT-2:20260509T110000
X-ALT-DESC;FMTTYPE=TEXT/HTML:Herzliche Einladung zum nächsten Familienfrü
 hstück! Was erwartet euch? Leckeres Frühstück für Groß und Klein Geme
 insames Singen\, Basteln und Spielen Zeit für Plaudereien Ob jung oder al
 t\, ob kreativ beim Basteln oder aktiv beim Spielen – hier kommt jeder a
 uf seine Kosten. Wir gestalten die Stunden nach euren Wünschen und lassen
  den Tag entspannt beginnen. Kommt&amp;hellip\;
CATEGORIES:Erwachsene,  Kinder
URL;VALUE=URI:https://www2.evangelische-lobberich.de/mc-events/familienfrue
 hstueck-2/
METHOD:PUBLISH
END:VEVENT
END:VCALENDAR