BEGIN:VCALENDAR
VERSION:2.0
PRODID:spatie/icalendar-generator
DESCRIPTION:Veranstaltungen von Evangelische Kirchengemeinde Lobberich
X-WR-CALDESC:Veranstaltungen von Evangelische Kirchengemeinde Lobberich
REFRESH-INTERVAL;VALUE=DURATION:PT1440M
X-PUBLISHED-TTL:PT1440M
BEGIN:VTIMEZONE
TZID:Etc/GMT-2
BEGIN:STANDARD
DTSTART:20250823T100000Z
TZOFFSETFROM:+0200
TZOFFSETTO:+0200
END:STANDARD
END:VTIMEZONE
BEGIN:VTIMEZONE
TZID:UTC
BEGIN:STANDARD
DTSTART:20250727T135225Z
TZOFFSETFROM:+0000
TZOFFSETTO:+0000
END:STANDARD
END:VTIMEZONE
BEGIN:VEVENT
UID:47-22
DTSTAMP:20260423T135225Z
SUMMARY:Spendenmobil Robin Hood in Hinsbeck
LOCATION:Gemeindehaus der Evangelischen Kirche Hinsbeck Parkstr. 22    4133
 4
ORGANIZER;CN=Monika Gerhardt:MAILTO:monika.gerhardt@mein.gmx
DTSTART;TZID=Etc/GMT-2:20260520T100000
DTEND;TZID=Etc/GMT-2:20260520T120000
X-ALT-DESC;FMTTYPE=TEXT/HTML:Unter dem Motto „Gut – Gebraucht – Güns
 tig“ sammelt das Sozialkaufhaus Robin Hood. Auf der Seite des Sozialkauf
 hauses sehen Sie alle Termine des Spendenmobils sowie danach eine detailli
 erte Beschreibung der möglichen Sachspenden. Spenden
CATEGORIES:Erwachsene,  Spendenmobil
URL;VALUE=URI:https://www2.evangelische-lobberich.de/mc-events/spendenmobil
 -robin-hood-in-hinsbeck/
METHOD:PUBLISH
END:VEVENT
END:VCALENDAR