BEGIN:VCALENDAR
VERSION:2.0
PRODID:spatie/icalendar-generator
DESCRIPTION:Veranstaltungen von Evangelische Kirchengemeinde Lobberich
X-WR-CALDESC:Veranstaltungen von Evangelische Kirchengemeinde Lobberich
REFRESH-INTERVAL;VALUE=DURATION:PT1440M
X-PUBLISHED-TTL:PT1440M
BEGIN:VTIMEZONE
TZID:Etc/GMT-2
BEGIN:STANDARD
DTSTART:20250705T080000Z
TZOFFSETFROM:+0200
TZOFFSETTO:+0200
END:STANDARD
END:VTIMEZONE
BEGIN:VTIMEZONE
TZID:UTC
BEGIN:STANDARD
DTSTART:20250728T095813Z
TZOFFSETFROM:+0000
TZOFFSETTO:+0000
END:STANDARD
END:VTIMEZONE
BEGIN:VEVENT
UID:61-24
DTSTAMP:20260424T095813Z
SUMMARY:Osteraktion
LOCATION:Gemeindehaus der Evangelischen Kirche Lobberich Steegerstraße 39 
    41334
ORGANIZER;CN=Monika Gerhardt:MAILTO:monika.gerhardt@mein.gmx
DTSTART;TZID=Etc/GMT-2:20260401T080000
DTEND;TZID=Etc/GMT-2:20260402T150000
X-ALT-DESC;FMTTYPE=TEXT/HTML:Wir laden herzlich ein zu unserer diesjährige
 n Osteraktion für Kinder im Alter von 6 – 10 Jahren. Wir wollen kreativ
  sein\, spielen und die Ostergeschichte erleben. Also wenn du noch nichts 
 vorhast\, dann komm gerne vorbei: Wann: 01. + 02. April 2026 von 8-15 Uhr 
 (ein Tag oder beide Tage buchbar) Wo: Im Gemeindehaus der&amp;hellip\;
CATEGORIES:Kinder
URL;VALUE=URI:https://www2.evangelische-lobberich.de/mc-events/osteraktion/
METHOD:PUBLISH
END:VEVENT
END:VCALENDAR